BEGIN:VCALENDAR
VERSION:2.0
PRODID:-//ChamberMaster//Event Calendar 2.0//EN
METHOD:PUBLISH
X-PUBLISHED-TTL:P3D
REFRESH-INTERVAL:P3D
CALSCALE:GREGORIAN
BEGIN:VEVENT
DTSTART:20260507T130000Z
DTEND:20260507T140000Z
X-MICROSOFT-CDO-ALLDAYEVENT:FALSE
SUMMARY:Parade of Homes Committee
DESCRIPTION:Please join us on Thursday\, May 7th at 9:00 am for a Parade of Homes committee meeting to make plans for a successful 2026 Parade. Please RSVP so we can plan for materials. \n\n\n\nPARKING NOTICE: Please do not park in the United Way lot to the right of the building as they will be enforcing towing. The HBAGK parking lot is located to left of the building behind the brick sign. \n\n\n\n(If you no longer wish to serve on this committee please respond so we can remove you from the email list\, thanks)
X-ALT-DESC;FMTTYPE=text/html:Please join us on Thursday\, May 7th at 9:00 am for a Parade of Homes committee meeting to make plans for a successful 2026 Parade. Please RSVP so we can plan for materials.&nbsp\;<br />\n<br />\nPARKING NOTICE: Please do not park in the United Way lot to the right of the building as they will be enforcing towing. The HBAGK parking lot is located to left of the building behind the brick sign.&nbsp\;<br />\n<br />\n(If you no longer wish to serve on this committee please respond so we can remove you from the email list\, thanks)
LOCATION:HBAGK Office 221 Clark St Knoxville\, TN 37921
UID:e.9402.2574
SEQUENCE:3
DTSTAMP:20260423T073759Z
URL:https://members.hbaknoxville.com/events/details/parade-of-homes-committee-2574
END:VEVENT

END:VCALENDAR
