BEGIN:VCALENDAR
VERSION:2.0
PRODID:-//ChamberMaster//Event Calendar 2.0//EN
METHOD:PUBLISH
X-PUBLISHED-TTL:P3D
REFRESH-INTERVAL:P3D
CALSCALE:GREGORIAN
BEGIN:VEVENT
DTSTART:20260513T190000Z
DTEND:20260513T200000Z
X-MICROSOFT-CDO-ALLDAYEVENT:FALSE
SUMMARY:NAHB Webinar: Navigating the Complexities of the Current Market: Supplier & Manufacturer Perspective
DESCRIPTION:Join us for Part 2 of this webinar series as leading manufacturers and suppliers share how they're responding to current market conditions and supporting builder customers in new ways. Hear what's changing behind the scenes\, from pricing strategies and incentive programs to logistics\, delivery\, and partnership models. This open discussion explores how suppliers are reducing friction\, creating value\, and helping builders stay competitive\, along with what they're seeing across the supply chain and where conditions may be headed.\nExclusively for NAHB Members & Credential Holders: Free registration for members after login. If you have not set up your NAHB account\, please visit: www.nahb.org/register or call 202.266.8313.
X-ALT-DESC;FMTTYPE=text/html:<p style="box-sizing: inherit\; margin: 0px 0px 10px\; line-height: 1.6\; font-size: 14px\; color: rgb(67\, 63\, 63)\; font-family: Roboto\, Helvetica\, Arial\, sans-serif\;">Join us for Part 2 of this webinar series as leading manufacturers and suppliers share&nbsp\;how they&#39\;re responding to current market conditions and supporting builder customers in new ways. Hear what&#39\;s changing behind the scenes\, from pricing strategies and incentive programs to logistics\, delivery\, and partnership models. This open discussion explores how suppliers are reducing friction\, creating value\, and helping builders stay competitive\, along with what they&#39\;re seeing across the supply chain and where conditions may be headed.</p>\n<span style="color: rgb(67\, 63\, 63)\; font-family: Roboto\, Helvetica\, Arial\, sans-serif\; font-size: 14px\; background-color: rgb(247\, 248\, 248)\;">Exclusively for NAHB Members &amp\; Credential Holders: Free registration for members after login. If you have not set up your NAHB account\, please visit:&nbsp\;</span><a data-feathr-click-track="true" data-feathr-link-aids="580e6bef8e8027472d6f7125" href="http://www.nahb.org/register" rel="nofollow noopener noreferrer" style="box-sizing: inherit\; color: rgb(0\, 32\, 91)\; text-decoration: none\; font-weight: bold\; font-family: Roboto\, Helvetica\, Arial\, sans-serif\; font-size: 14px\;">www.nahb.org/register</a><span style="color: rgb(67\, 63\, 63)\; font-family: Roboto\, Helvetica\, Arial\, sans-serif\; font-size: 14px\; background-color: rgb(247\, 248\, 248)\;">&nbsp\;or call 202.266.8313.</span>
LOCATION:
UID:e.9402.2579
SEQUENCE:3
DTSTAMP:20260424T085527Z
URL:https://members.hbaknoxville.com/events/details/nahb-webinar-navigating-the-complexities-of-the-current-market-supplier-manufacturer-perspective-2579
END:VEVENT

END:VCALENDAR
