BEGIN:VCALENDAR
VERSION:2.0
PRODID:-//ChamberMaster//Event Calendar 2.0//EN
METHOD:PUBLISH
X-PUBLISHED-TTL:P3D
REFRESH-INTERVAL:P3D
CALSCALE:GREGORIAN
BEGIN:VEVENT
DTSTART:20260506T190000Z
DTEND:20260506T200000Z
X-MICROSOFT-CDO-ALLDAYEVENT:FALSE
SUMMARY:NAHB Webinar: Navigating the Complexities of the Current Market: Builder/Remodeler Perspective
DESCRIPTION:Join us for Part 1 of this three-part webinar series as builders take the mic to share how they're navigating today's unpredictable market. From cost volatility and tariff pressures to shifting buyer demand\, hear how production\, custom\, and remodeling professionals are adjusting operations\, protecting margins\, and rethinking supplier and trade relationships. This candid conversation dives into the real decisions builders are making right now\, including where technology is helping\, where it's not\, and what they see coming next.\n\n\n\nExclusively for NAHB Members & Credential Holders: Free registration for members after login. If you have not set up your NAHB account\, please visit: www.nahb.org/register or call 202.266.8313
X-ALT-DESC;FMTTYPE=text/html:<span style="color: rgb(67\, 63\, 63)\; font-family: Roboto\, Helvetica\, Arial\, sans-serif\; font-size: 14px\; background-color: rgb(247\, 248\, 248)\;">Join us for Part 1 of this three-part webinar series as builders take the mic to share how they&#39\;re navigating today&#39\;s unpredictable market. From cost volatility and tariff pressures to shifting buyer demand\, hear how production\, custom\, and remodeling professionals are adjusting operations\, protecting margins\, and rethinking supplier and trade relationships. This candid conversation dives into the real decisions builders are making right now\, including where technology is helping\, where it&#39\;s not\, and what they see coming next.</span><br style="box-sizing: inherit\; color: rgb(67\, 63\, 63)\; font-family: Roboto\, Helvetica\, Arial\, sans-serif\; font-size: 14px\; background-color: rgb(247\, 248\, 248)\;" />\n<br style="box-sizing: inherit\; color: rgb(67\, 63\, 63)\; font-family: Roboto\, Helvetica\, Arial\, sans-serif\; font-size: 14px\; background-color: rgb(247\, 248\, 248)\;" />\n<span style="color: rgb(67\, 63\, 63)\; font-family: Roboto\, Helvetica\, Arial\, sans-serif\; font-size: 14px\; background-color: rgb(247\, 248\, 248)\;">Exclusively for NAHB Members &amp\; Credential Holders: Free registration for members after login. If you have not set up your NAHB account\, please visit:&nbsp\;</span><a data-feathr-click-track="true" data-feathr-link-aids="580e6bef8e8027472d6f7125" href="http://www.nahb.org/register" rel="nofollow noopener noreferrer" style="box-sizing: inherit\; color: rgb(0\, 32\, 91)\; text-decoration: none\; font-weight: bold\; font-family: Roboto\, Helvetica\, Arial\, sans-serif\; font-size: 14px\; background-color: rgb(247\, 248\, 248)\;">www.nahb.org/register</a><span style="color: rgb(67\, 63\, 63)\; font-family: Roboto\, Helvetica\, Arial\, sans-serif\; font-size: 14px\; background-color: rgb(247\, 248\, 248)\;">&nbsp\;or call 202.266.8313</span>
LOCATION:
UID:e.9402.2578
SEQUENCE:3
DTSTAMP:20260423T073920Z
URL:https://members.hbaknoxville.com/events/details/nahb-webinar-navigating-the-complexities-of-the-current-market-builder-remodeler-perspective-2578
END:VEVENT

END:VCALENDAR
