BEGIN:VCALENDAR
VERSION:2.0
PRODID:-//ChamberMaster//Event Calendar 2.0//EN
METHOD:PUBLISH
X-PUBLISHED-TTL:P3D
REFRESH-INTERVAL:P3D
CALSCALE:GREGORIAN
BEGIN:VEVENT
DTSTART:20260310T170000Z
DTEND:20260310T180000Z
X-MICROSOFT-CDO-ALLDAYEVENT:FALSE
SUMMARY:NAHB: Shop Talk: How to Create a Winning Customer Service Experience
DESCRIPTION:Curating a top-notch customer service experience is paramount to the success of operating a business - from establishing open and frequent communication with your clients to being able to quickly pivot when a plan goes off track. Share strategies\, success stories\, lessons learned and get actionable advice to help you consistently exceed customer expectations.\n\n\n\nNOTE: This Shop Talk will be recorded for use on NAHB.org. By registering for this discussion\, you agree to participate.\n\n\n\nRegistration now requires an NAHB login. Create your account at www.nahb.org/register or call the help desk at 202.266.8313 for assistance. Members and credential holders receive complimentary access to most presentations after logging in.
X-ALT-DESC;FMTTYPE=text/html:<span style="color: rgb(67\, 63\, 63)\; font-family: Roboto\, Helvetica\, Arial\, sans-serif\; font-size: 14px\; background-color: rgb(247\, 248\, 248)\;">Curating a top-notch customer service experience is paramount to the success of operating a business - from establishing open and frequent communication with your clients to being able to quickly pivot when a plan goes off track. Share strategies\, success stories\, lessons learned and get actionable advice to help you consistently exceed customer expectations.</span><br style="box-sizing: inherit\; color: rgb(67\, 63\, 63)\; font-family: Roboto\, Helvetica\, Arial\, sans-serif\; font-size: 14px\; background-color: rgb(247\, 248\, 248)\;" />\n<br style="box-sizing: inherit\; color: rgb(67\, 63\, 63)\; font-family: Roboto\, Helvetica\, Arial\, sans-serif\; font-size: 14px\; background-color: rgb(247\, 248\, 248)\;" />\n<strong style="box-sizing: inherit\; font-weight: bold\; color: rgb(67\, 63\, 63)\; font-family: Roboto\, Helvetica\, Arial\, sans-serif\; font-size: 14px\; background-color: rgb(247\, 248\, 248)\;">NOTE</strong><span style="color: rgb(67\, 63\, 63)\; font-family: Roboto\, Helvetica\, Arial\, sans-serif\; font-size: 14px\; background-color: rgb(247\, 248\, 248)\;">: This Shop Talk will be recorded for use on NAHB.org. By registering for this discussion\, you agree to participate.</span><br style="box-sizing: inherit\; color: rgb(67\, 63\, 63)\; font-family: Roboto\, Helvetica\, Arial\, sans-serif\; font-size: 14px\; background-color: rgb(247\, 248\, 248)\;" />\n<br style="box-sizing: inherit\; color: rgb(67\, 63\, 63)\; font-family: Roboto\, Helvetica\, Arial\, sans-serif\; font-size: 14px\; background-color: rgb(247\, 248\, 248)\;" />\n<span style="color: rgb(67\, 63\, 63)\; font-family: Roboto\, Helvetica\, Arial\, sans-serif\; font-size: 14px\; background-color: rgb(247\, 248\, 248)\;">Registration now requires an NAHB login. Create your account at&nbsp\;</span><a data-feathr-click-track="true" data-feathr-link-aids="580e6bef8e8027472d6f7125" href="http://www.nahb.org/register" rel="nofollow noopener noreferrer" style="box-sizing: inherit\; color: rgb(0\, 32\, 91)\; text-decoration-line: none\; font-weight: bold\; font-family: Roboto\, Helvetica\, Arial\, sans-serif\; font-size: 14px\; background-color: rgb(247\, 248\, 248)\;">www.nahb.org/register</a><span style="color: rgb(67\, 63\, 63)\; font-family: Roboto\, Helvetica\, Arial\, sans-serif\; font-size: 14px\; background-color: rgb(247\, 248\, 248)\;">&nbsp\;or call the help desk at 202.266.8313 for assistance. Members and credential holders receive complimentary access to most presentations after logging in.</span>
LOCATION:
UID:e.9402.2551
SEQUENCE:3
DTSTAMP:20260421T122040Z
URL:https://members.hbaknoxville.com/events/details/nahb-shop-talk-how-to-create-a-winning-customer-service-experience-2551
END:VEVENT

END:VCALENDAR
