BEGIN:VCALENDAR
VERSION:2.0
PRODID:-//ChamberMaster//Event Calendar 2.0//EN
METHOD:PUBLISH
X-PUBLISHED-TTL:P3D
REFRESH-INTERVAL:P3D
CALSCALE:GREGORIAN
BEGIN:VEVENT
DTSTART:20260429T150000Z
DTEND:20260429T160000Z
X-MICROSOFT-CDO-ALLDAYEVENT:FALSE
SUMMARY:HBAGK Golf Committee
DESCRIPTION:The HBAGK Golf Committee will meet on April 29th at 11 am to plan our annual tournament and we hope that you can attend to help us prepare the event. Please RSVP so we can plan materials. \n\n\n\nThe tournament is scheduled for Tuesday\, June 2\, at Egwani Golf Club.\n\n\n\n2026 HBAGK Annual Golf Tournament presented by James Hardie - event page with player/team registration and sponsorships with online payments available.
X-ALT-DESC;FMTTYPE=text/html:<span style="font-size:14px\;">The HBAGK Golf Committee will meet on April 29th at 11 am to plan our annual tournament and we hope that you can attend to help us prepare the event. Please RSVP so we can plan materials.&nbsp\;<br />\n<br />\nThe tournament is scheduled for Tuesday\, June 2\, at Egwani Golf Club.<br />\n<br />\n<a href="https://members.hbaknoxville.com/events/details/hbagk-annual-golf-tournament-presented-by-james-hardie-building-products-2464?calendarMonth=2026-06-01">2026 HBAGK Annual Golf Tournament presented by James Hardie</a> - event page with player/team registration and sponsorships with online payments available.&nbsp\;</span>
LOCATION:221 Clark St. Knoxville\, TN 37921
UID:e.9402.2575
SEQUENCE:3
DTSTAMP:20260422T083221Z
URL:https://members.hbaknoxville.com/events/details/hbagk-golf-committee-2575
END:VEVENT

END:VCALENDAR
