BEGIN:VCALENDAR
VERSION:2.0
PRODID:-//ChamberMaster//Event Calendar 2.0//EN
METHOD:PUBLISH
X-PUBLISHED-TTL:P3D
REFRESH-INTERVAL:P3D
CALSCALE:GREGORIAN
BEGIN:VEVENT
DTSTART:20260317T140000Z
DTEND:20260317T150000Z
X-MICROSOFT-CDO-ALLDAYEVENT:FALSE
SUMMARY:Education Committee
DESCRIPTION:The Education Committee will meet at the HBAGK office on Tuesday\, March 17th at 10:00 am. We appreciate your commitment to serve on the committee and look forward to seeing you at the meeting. Please RSVP so we can plan materials. \n\n\n\nResources:\n\nNAHB Education - click through the education pages for more information\n\nIBS Education
X-ALT-DESC;FMTTYPE=text/html:The Education Committee will meet at the HBAGK office on Tuesday\, March 17th at 10:00 am. We appreciate your commitment to serve on the committee and look forward to seeing you at the meeting. Please RSVP so we can plan materials.&nbsp\;<br />\n<br />\nResources:<br />\n<a href="https://www.nahb.org/education-and-events/education/course-overviews-search#sort=relevancy" target="_blank">NAHB Education</a>&nbsp\;- click through the education pages for more information<br />\n<a href="https://www.buildersshow.com/Search/EducationEvents.aspx" target="_blank">IBS Education</a><br />\n<br />\n&nbsp\;
LOCATION:HBAGK Office 221 Clark St. Knoxville\, TN 37921
UID:e.9402.2543
SEQUENCE:3
DTSTAMP:20260421T121623Z
URL:https://members.hbaknoxville.com/events/details/education-committee-2543
END:VEVENT

END:VCALENDAR
