BEGIN:VCALENDAR
VERSION:2.0
PRODID:-//ChamberMaster//Event Calendar 2.0//EN
METHOD:PUBLISH
X-PUBLISHED-TTL:P3D
REFRESH-INTERVAL:P3D
CALSCALE:GREGORIAN
BEGIN:VEVENT
DTSTART:20260325T154500Z
DTEND:20260325T170000Z
X-MICROSOFT-CDO-ALLDAYEVENT:FALSE
SUMMARY:Board of Directors Meeting
DESCRIPTION:Home Builders' Board of Directors will meet Wednesday\, March 25th at 11:45 AM at the HBAGK office. (Budget & Executive Committees meet at 10:00 AM prior to the Board meeting). If you have an item for the agenda please submit it no later than Friday before our meeting.\n\n\n\nProfessional headshots beginning at 12:00 PM sharp! We have arranged a professional photographer to shoot headshots for all Board members during our meeting. Please dress accordingly or bring attire to wear for your photo. We would like everyone to have a nice portrait for our website and we will share your photo with you for your own use. We are asking each Board member to pay $50 each to offset this expense. \n\n\n\nRSVP so we can order the right amount of food for the meeting. \n \n\n\nHBAGK - 2026 Meeting Schedule\n\nBoard of Directors meet 6 times\, alternating months usually on the 4th Wednesday at 11:45 AM\n\nJAN 28 - lunch sponsored by Best Bath Systems\n\nMAR 25\n\nMAY 27\n\nJUL 29 - one week late due to HBAT Summer meeting\n\nSEP 23 - lunch sponsored by ORNL Federal Credit Union\n\nDEC 2 - one week late due to Thanksgiving
X-ALT-DESC;FMTTYPE=text/html:Home Builders&#39\; Board of Directors will meet <strong>Wednesday\, March 25th</strong>&nbsp\;at 11:45 AM at the HBAGK office. (Budget &amp\; Executive Committees meet at 10:00 AM prior to the Board meeting). If you have an item for the agenda please submit it no later than Friday before our&nbsp\;meeting.<br />\n<br />\nProfessional headshots beginning at 12:00 PM sharp! We have arranged a professional photographer to shoot headshots for all Board members during our meeting. Please dress accordingly or bring attire to wear for your photo. We would like everyone to have a nice portrait for our website and we will share your photo with you for your own use. We are asking each Board member to pay $50 each to offset this expense.&nbsp\;<br />\n<br />\nRSVP so we can order the right amount of food for the meeting.&nbsp\;\n<div>&nbsp\;</div>\n\n<div>\n<p class="MsoNormal"><b>HBAGK - 2026 Meeting Schedule</b></p>\n\n<p class="MsoNormal">Board of Directors meet 6 times\, alternating months usually on the 4<sup>th&nbsp\;</sup>Wednesday at 11:45 AM<br />\nJAN 28 - lunch sponsored by Best Bath Systems<br />\nMAR 25<br />\nMAY 27<br />\nJUL 29 - one week late due to HBAT Summer meeting<br />\nSEP 23 - lunch sponsored by ORNL Federal Credit Union<br />\nDEC 2&nbsp\;- one week late&nbsp\;due to Thanksgiving&nbsp\;<br />\n<br />\n<br />\n&nbsp\;</p>\n\n<p class="MsoNormal">&nbsp\;</p>\n\n<div>\n<div>\n<div>\n<div>&nbsp\;</div>\n</div>\n</div>\n</div>\n</div>\n
LOCATION:221 Clark Street\, NW Knoxville\, TN
UID:e.9402.2500
SEQUENCE:3
DTSTAMP:20260421T121941Z
URL:https://members.hbaknoxville.com/events/details/board-of-directors-meeting-2500
END:VEVENT

END:VCALENDAR
